BEGIN:VCALENDAR
VERSION:2.0
PRODID:-//Osijek Express - ECPv6.15.20//NONSGML v1.0//EN
CALSCALE:GREGORIAN
METHOD:PUBLISH
X-ORIGINAL-URL:https://www.osijekexpress.com
X-WR-CALDESC:Događaji za Osijek Express
REFRESH-INTERVAL;VALUE=DURATION:PT1H
X-Robots-Tag:noindex
X-PUBLISHED-TTL:PT1H
BEGIN:VTIMEZONE
TZID:Europe/Zagreb
BEGIN:DAYLIGHT
TZOFFSETFROM:+0100
TZOFFSETTO:+0200
TZNAME:CEST
DTSTART:20230326T010000
END:DAYLIGHT
BEGIN:STANDARD
TZOFFSETFROM:+0200
TZOFFSETTO:+0100
TZNAME:CET
DTSTART:20231029T010000
END:STANDARD
BEGIN:DAYLIGHT
TZOFFSETFROM:+0100
TZOFFSETTO:+0200
TZNAME:CEST
DTSTART:20240331T010000
END:DAYLIGHT
BEGIN:STANDARD
TZOFFSETFROM:+0200
TZOFFSETTO:+0100
TZNAME:CET
DTSTART:20241027T010000
END:STANDARD
BEGIN:DAYLIGHT
TZOFFSETFROM:+0100
TZOFFSETTO:+0200
TZNAME:CEST
DTSTART:20250330T010000
END:DAYLIGHT
BEGIN:STANDARD
TZOFFSETFROM:+0200
TZOFFSETTO:+0100
TZNAME:CET
DTSTART:20251026T010000
END:STANDARD
END:VTIMEZONE
BEGIN:VEVENT
DTSTART;VALUE=DATE:20241108
DTEND;VALUE=DATE:20241111
DTSTAMP:20260426T042307
CREATED:20241107T200829Z
LAST-MODIFIED:20241107T200829Z
UID:112211-1731024000-1731283199@www.osijekexpress.com
SUMMARY:Grad Osijek domaćin mladim gudačima na  28. Memorijalu Franjo Krežma
DESCRIPTION:Glazbena mladež Osijek najavljuje 28. Memorijal Franjo Krežma\, međunarodni susret mladih gudača\, od 8. do 10. studenoga 2024.\, s počekom svih koncertnih večeri u 19.00 sati. Koncerti u petak i subotu se održavaju u Svečanoj dvorani Filozofskog fakulteta Osijek\, a završni koncert u nedjelju će se održati u Koncertnoj dvorani Franjo Krežma u Kulturnom centru Osijek. \nGrad Osijek bit će domaćin mladim gudačima iz Basela\, Beograda\, Ljubljane\, Osijeka\, Samobora i Zagreba. Već tradicionalno mjesec studeni rezerviran je za tri koncertne večeri uz najbolje učenike\,  studente i mladog umjetnika. \nSolistički koncert održat će duo #kkkk u sastavu Katarine Kutnar (violina) i Katarine Krpan (klavir) od kojih svaka iza sebe ima niz nagrada i zapaženih koncerata. Duo su osnovale 2019. godine te su za svoj izdani album “Berislav Šipuš: Zajedno” osvojile nagradu Porin za najbolji album klasične glazbe. Za album “#KKKK Sanjarenje/Daydream” 2022. nominirane su u svim kategorijama klasične glazbe za nagradu Porin. \nManifestacija se održava u spomen Franji Krežmi (1862. – 1881.) hrvatskom violinistu\, rođenom u Osijeku. Kako bi se odužili njegovom glazbenom nasljedstvu\, organizira se Memorijal čija je osnovna ideja afirmirati mlade glazbenike\, okupiti publiku i poticati nove glazbene talente. \nPROGRAM MEMORIJALA\nPetak\, 8. 11. u 19h\, koncert učenika (Filozofski fakultet Osijek)\nIva Defar\, violina (Zagreb\, Hrvatska) \nFilip Kukulj\, violina (Samobor\, Hrvatska) \nBianka Saridžić\, viola (Zagreb\, Hrvatska) \nAna Krstin\, violina (Osijek\, Hrvatska) \nGrigor Vidošević\, violina (Zagreb\, Hrvatska) \nTirsa Habuda\, violina (Zagreb\, Hrvatska) \nHana Rabadan\, violončelo (Zagreb\, Hrvatska) \n  \nSubota\, 9. 11. u 19h\, koncert studenata (Filozofski fakultet Osijek) \nBeatriz Lopez Paz\, viola da gamba (Basel\, Švicarska) \nTao-Yuan Hsiao – Elise\, violina (Zagreb\, Hrvatska) \nVeronika Mona Bogić\, violina (Beograd\, Srbija) \nHanna Kryvtsova\, violina (Ljubljana\, Slovenija) \nSara Čano\, violončelo (Ljubljana\, Slovenija) \n  \nNedjelja\, 10. 11. u 19h\, koncert dua #kkkk (Kulturni centar Osijek) \nKatarina Kutnar\, violina \nKatarina Krpan\, klavir \n  \nMemorijal je pod pokroviteljstvom Grada Osijeka\, Osječko-baranjske županije i Ministarstva kulture i medija\, u suradnji sa Glazbenom školom Franje Kuhača Osijek.
URL:https://www.osijekexpress.com/dogadaj/grad-osijek-domacin-mladim-gudacima-na-28-memorijalu-franjo-krezma/
LOCATION:KD Franjo Krežma
CATEGORIES:Glazba
ATTACH;FMTTYPE=image/jpeg:https://www.osijekexpress.com/wp-content/uploads/2024/11/krezma-2024-facebook-cover-01-scaled.jpg
END:VEVENT
END:VCALENDAR