BEGIN:VCALENDAR
VERSION:2.0
PRODID:-//Osijek Express - ECPv6.15.20//NONSGML v1.0//EN
CALSCALE:GREGORIAN
METHOD:PUBLISH
X-ORIGINAL-URL:https://www.osijekexpress.com
X-WR-CALDESC:Događaji za Osijek Express
REFRESH-INTERVAL;VALUE=DURATION:PT1H
X-Robots-Tag:noindex
X-PUBLISHED-TTL:PT1H
BEGIN:VTIMEZONE
TZID:Europe/Zagreb
BEGIN:DAYLIGHT
TZOFFSETFROM:+0100
TZOFFSETTO:+0200
TZNAME:CEST
DTSTART:20230326T010000
END:DAYLIGHT
BEGIN:STANDARD
TZOFFSETFROM:+0200
TZOFFSETTO:+0100
TZNAME:CET
DTSTART:20231029T010000
END:STANDARD
BEGIN:DAYLIGHT
TZOFFSETFROM:+0100
TZOFFSETTO:+0200
TZNAME:CEST
DTSTART:20240331T010000
END:DAYLIGHT
BEGIN:STANDARD
TZOFFSETFROM:+0200
TZOFFSETTO:+0100
TZNAME:CET
DTSTART:20241027T010000
END:STANDARD
BEGIN:DAYLIGHT
TZOFFSETFROM:+0100
TZOFFSETTO:+0200
TZNAME:CEST
DTSTART:20250330T010000
END:DAYLIGHT
BEGIN:STANDARD
TZOFFSETFROM:+0200
TZOFFSETTO:+0100
TZNAME:CET
DTSTART:20251026T010000
END:STANDARD
END:VTIMEZONE
BEGIN:VEVENT
DTSTART;TZID=Europe/Zagreb:20241007T190000
DTEND;TZID=Europe/Zagreb:20241007T210000
DTSTAMP:20260426T042535
CREATED:20241003T200526Z
LAST-MODIFIED:20241003T200527Z
UID:109605-1728327600-1728334800@www.osijekexpress.com
SUMMARY:Izvedba kazališne predstave "Žena himna" - u Domu kulture u Bilju!
DESCRIPTION:Izvedba kazališne predstave “Žena himna” po tekstu nagrađivanog dramatičara Davora Špišića\, na rasporedu je u Domu kulture u Bilju dana 7. listopada 2024. godine u 19 sati.\nPredstava je nastala u režiji Roberta Raponje i temelji se na biografiji Paule Preradović\, unuke književnika Petra Preradovića\, autorice austrijske himne i žene koja je veliki dio života provela u Puli. Priča prati život ove izuzetne umjetnice koja je\, kroz svoje djelo i život\, ostavila neizbrisiv trag u vremenu raspada Austro-Ugarske Monarhije te kroz dva svjetska rata. Kroz osobnu i kreativnu borbu\, Paula je simbol otpora fašističkoj vladavini i borbe za pravdu.\nOva predstava\, koja je dobila 1. nagradu za dramsko djelo “Marin Držić” Ministarstva kulture i medija za 2022. godinu\, izvodi se u produkciji Teatra Fort Forno i suradnji s više kazališnih institucija\, uz podršku Austrijskog kulturnog foruma.\nUlaz na predstavu je besplatan te ovim putem pozivamo sve građane da nam se pridruže i uživaju u ovom izuzetnom kulturnom događaju.
URL:https://www.osijekexpress.com/dogadaj/izvedba-kazalisne-predstave-zena-himna-u-domu-kulture-u-bilju/
LOCATION:Dom kulture Bilje
CATEGORIES:Umjetnost
ATTACH;FMTTYPE=image/jpeg:https://www.osijekexpress.com/wp-content/uploads/2024/10/plakat-Zena-himna.jpg
END:VEVENT
END:VCALENDAR